BEGIN:VCALENDAR
PRODID:-//AT Content Types//AT Event//EN
VERSION:2.0
METHOD:PUBLISH
BEGIN:VEVENT
DTSTAMP:20260419T185132Z
CREATED:20221004T140730Z
UID:ATEvent-d43b4350973e4b319c2d084c869f603f
LAST-MODIFIED:20221004T140813Z
SUMMARY:Apresentação do livro "O Poder dos Alimentos"
DTSTART:20221029T150000Z
DTEND:20221029T170000Z
DESCRIPTION:O livro "O Poder dos Alimentos"\, da autoria do Professor 
 João Rodrigues\, irá ser apresentado no próximo dia 29 de Outubro\,
  às 16 horas\, na Biblioteca Municipal de Viana do Castelo.
LOCATION:Biblioteca Municipal de Viana do Castelo
CONTACT:João Rodrigues
CLASS:PUBLIC
END:VEVENT
END:VCALENDAR
